BEGIN:VCALENDAR
TZID:Europe/Berlin
BEGIN:VEVENT
CLASS:PUBLIC
CREATED:20260419T151813
DESCRIPTION:Aufbauseminar für Fahrangänger (Sitzung 3)
DTEND:20260529T201500Z
DTSTAMP:20260419T151813
DTSTART:20260529T170000
LAST-MODIFIED:20091109T101015
LOCATION:, , , , 
SUMMARY;LANGUAGE=en-us:ASF 3
BEGIN:VALARM
TRIGGER:-PT1440M
ACTION:DISPLAY
DESCRIPTION:Reminder
END:VALARM
END:VEVENT
END:VCALENDAR
